BEGIN:VCALENDAR
VERSION:2.0
PRODID:-//Eventin//Event Calendar//EN
CALSCALE:GREGORIAN
METHOD:PUBLISH
BEGIN:VEVENT
UID:3f692f31fb39736152208e7f8c59f0b6@events.surface-tech.com
SUMMARY:TACCONF 2026
DESCRIPTION:Transportation for a Strong Canada \n\n\n\n\nOctober 4-7 | Win
 nipeg\, Manitoba\n\n\n\n\nCanada’s Largest Annual Conference on Roads\, H
 ighways and Urban Transportation\n\n\n\n\n 
LOCATION:Winnipeg\, Manitoba
DTSTAMP:20260420T145642Z
DTSTART:20261004T040000Z
DTEND:20261007T040000Z
END:VEVENT
END:VCALENDAR
