BEGIN:VCALENDAR
VERSION:2.0
PRODID:-//Eventin//Event Calendar//EN
CALSCALE:GREGORIAN
METHOD:PUBLISH
BEGIN:VEVENT
UID:09abe1583cc94be98e6d3a17b77518d8@events.surface-tech.com
SUMMARY:PAVE/X 2027
DESCRIPTION:January 25-27\, 2027\nSavannah Convention CenterSavannah\, GA
LOCATION:Savannah Convention Center Savannah\, GA
DTSTAMP:20260420T145443Z
DTSTART:20270125T050000Z
DTEND:20270127T050000Z
END:VEVENT
END:VCALENDAR
