BEGIN:VCALENDAR
VERSION:2.0
PRODID:-//Eventin//Event Calendar//EN
CALSCALE:GREGORIAN
METHOD:PUBLISH
BEGIN:VEVENT
UID:4aa642514fd8e520cc579b8bb0cd9afd@events.surface-tech.com
SUMMARY:APWA PWX 2026
DESCRIPTION:PWX provides a first-class multi-modal learning experience desi
 gned for professionals at all levels and across the entire spectrum of publ
 ic works. Come prepared to see\, hear\, touch\, and discuss in a variety of
  traditional and interactive sessions\, seminars\, workshops\, and networki
 ng opportunities. Attendees can also spend time on North America’s larges
 t exhibit floor for public works equipment and services—we’ve carved ou
 t generous portions of non-compete time\, so you don’t miss any sessions.
  Kick tires\, talk about technology\, or get the scoop on new products.http
 s://www.apwa.org/events/pwx-conference/\n\n\n\n\n\n\n\n\n\n\n\n 
LOCATION:1001 Avenida de las Americas\, Houston\, TX
DTSTAMP:20260420T145454Z
DTSTART:20260830T040000Z
DTEND:20260902T040000Z
END:VEVENT
END:VCALENDAR
