BEGIN:VCALENDAR
VERSION:2.0
PRODID:-//Eventin//Event Calendar//EN
CALSCALE:GREGORIAN
METHOD:PUBLISH
BEGIN:VEVENT
UID:d2f1877734bf3e6e2c639739dff962cf@events.surface-tech.com
SUMMARY:NAPA Hill Day 2026
DESCRIPTION:Calling all construction industry champions!\nDon't miss the co
 nstruction materials Hill Day\, happening right where actions that impact y
 our industry’s future take shape: Washington\, D.C. This is a great oppo
 rtunity to engage in the issues affecting our industry and to ensure your 
 voice is heard by our elected representatives. \nNAPA\, NSSGA\, and NRMCA 
 are joining forces to share industry priorities with elected officials and 
 policymakers. Together our voices are stronger. Together\, we achieve more.
  Together\, we build! \nTentative Schedule\nSeptember 21 – Joint Govern
 ment Affairs Meeting + Hill Day Prep + Joint PAC Reception\nSeptember 22 
 – Hill Day\nSeptember 23-24 – Stay for IMPACT! (Combined or separate r
 egistration required.)\nhttps://www.asphaltpavement.org/programs/napa-event
 s/hill-day
LOCATION:Washington DC
DTSTAMP:20260420T145519Z
DTSTART:20260922T040000Z
DTEND:20260922T040000Z
END:VEVENT
END:VCALENDAR
