BEGIN:VCALENDAR
VERSION:2.0
PRODID:-//Eventin//Event Calendar//EN
CALSCALE:GREGORIAN
METHOD:PUBLISH
BEGIN:VEVENT
UID:216d6494e4b08b6d7da6b4378937817e@events.surface-tech.com
SUMMARY:World of Asphalt 2027
DESCRIPTION:Advance your business by checking out industry leading manufact
 urers and service providers showcasing their latest products and technologi
 es.\nVisit: https://www.worldofasphalt.com/
LOCATION:New Orleans\, LA
DTSTAMP:20260420T145556Z
DTSTART:20270315T040000Z
DTEND:20270317T040000Z
END:VEVENT
END:VCALENDAR
