BEGIN:VCALENDAR
VERSION:2.0
PRODID:-//Eventin//Event Calendar//EN
CALSCALE:GREGORIAN
METHOD:PUBLISH
BEGIN:VEVENT
UID:c672e21cf1c67f1e4def3b6627b079eb@events.surface-tech.com
SUMMARY:2026 AACE/NACE Western Region Conference
DESCRIPTION:2026 AACE/NACE Western Region ConferenceJune 10-12\, 2026Aquari
 us Casino Resort1900 S Casino DrLaughlin\, NV 89029
LOCATION:Aquarius Casino Resort 1900 S Casino Dr Laughlin\, NV  89029
DTSTAMP:20260420T145611Z
DTSTART:20260710T040000Z
DTEND:20260712T040000Z
END:VEVENT
END:VCALENDAR
