BEGIN:VCALENDAR
VERSION:2.0
PRODID:-//Eventin//Event Calendar//EN
CALSCALE:GREGORIAN
METHOD:PUBLISH
BEGIN:VEVENT
UID:235464e7b093de88ee36bc70bd183982@events.surface-tech.com
SUMMARY:NAPA 2026 Midyear Meeting
DESCRIPTION:The NAPA Midyear Meeting is three comprehensive days of committ
 ee meetings and educational sessions focused on advancing the asphalt pavem
 ent industry. Throughout this meeting\, NAPA leadership gathers input\, mak
 es decisions\, and reaffirms the strategic direction of our industry\, memb
 ers\, and stakeholders.
LOCATION:402 North High Street\, Columbus\, OH 43215
DTSTAMP:20260420T145438Z
DTSTART:20260714T040000Z
DTEND:20260717T040000Z
END:VEVENT
END:VCALENDAR
