BEGIN:VCALENDAR
VERSION:2.0
PRODID:-//Eventin//Event Calendar//EN
CALSCALE:GREGORIAN
METHOD:PUBLISH
BEGIN:VEVENT
UID:6a660f9d4c8803493abf911d5ad12170@events.surface-tech.com
SUMMARY:2026 Annual Conference and Expo
DESCRIPTION:Mark your calendars for our 2026 Annual Conference and Expo\, S
 eptember 23-25 at the Anaheim Convention Center in Anaheim. This year’s c
 onference will feature general sessions\, workshops\, and networking events
  for hundreds of leaders from all sections of city government\, including m
 ayors\, council members\, city managers\, city clerks\, city attorneys\, fi
 scal officers\, and other city staff.\nEducational sessions and the expo su
 pport city leaders by equipping them with the latest knowledge\, resources\
 , and tools to advance their communities and assist officials in their dail
 y roles and operations within their city.\nRegistration will open in late S
 pring.\nOur popular Expo Hall will be brimming with opportunities to engage
  with organizations that provide essential services to cities. Expo spaces 
 are available! Please visit our Exhibitor and Sponsorship page for more 
 information on how to get involved and showcase your organization.\nFor que
 stions\, please contact Senior Education and Events Manager\, Christina Ge
 orge.\nIn advance of the conference\, please see our event and meeting pol
 icies.
LOCATION:Anaheim Convention Center\, Anaheim\, CA 
DTSTAMP:20260420T145601Z
DTSTART:20260923T040000Z
DTEND:20260925T040000Z
END:VEVENT
END:VCALENDAR
